Workbook

Sheet Лист1
A1: Школа | C1: МБОУ Роговская СОШ | F1: Утвердил: | G1: должность | H1: Директор школы
A2: Типовое примерное меню приготавливаемых блюд | G2: фамилия | H2: Титов С.Н.
A3: Возрастная категория | E3: 7-11 лет | G3: дата | H3: 4 | I3: 3 | J3: 2026
H4: день | I4: месяц | J4: год
A5: Неделя | B5: День недели | C5: Прием пищи | D5: Раздел меню | E5: Блюда | F5: Вес блюда, г | G5: Белки | H5: Жиры | I5: Углеводы | J5: Калорийность | K5: № рецептуры | L5: Цена
A6: 1 | B6: 1 | C6: Завтрак | D6: гор.блюдо | E6: =[1]Лист1!$E$101 -> Сырники (запеканка) из творога со сметаной | F6: =[1]Лист1!F101 -> 200 | G6: =[1]Лист1!G101 -> 40.3 | H6: =[1]Лист1!H101 -> 12 | I6: =[1]Лист1!I101 -> 36.5 | J6: =[1]Лист1!J101 -> 252 | K6: =[1]Лист1!K101 -> 237 | L6: 45.28
D8: гор.напиток | E8: =[1]Лист1!$E$103 -> Чай с сахаром с лимоном | F8: =[1]Лист1!F103 -> 200 | G8: =[1]Лист1!G103 -> 0 | H8: =[1]Лист1!H103 -> 0 | I8: =[1]Лист1!I103 -> 14 | J8: =[1]Лист1!J103 -> 56 | K8: =[1]Лист1!K103 -> 54 | L8: 4
D9: хлеб | E9: =[1]Лист1!$E$102 -> Хлеб пшеничный | F9: =[1]Лист1!F102 -> 60 | G9: =[1]Лист1!G102 -> 3.8 | H9: =[1]Лист1!H102 -> 0.3 | I9: =[1]Лист1!I102 -> 20.7 | J9: =[1]Лист1!J102 -> 117 | K9: =[1]Лист1!K102 -> 1 | L9: =[1]Лист1!L102 -> 4
D10: фрукты | E10: =[1]Лист1!$E$105 -> Апельсин | F10: =[1]Лист1!F105 -> 100 | G10: =[1]Лист1!G105 -> 0.94 | H10: =[1]Лист1!H105 -> 0.12 | I10: =[1]Лист1!I105 -> 11.75 | J10: =[1]Лист1!J105 -> 47 | K10: =[1]Лист1!K105 -> 0 | L10: 17
D11: закуска | E11: =[1]Лист1!$E$104 -> Бутерброд с маслом,сыром | F11: =[1]Лист1!F104 -> 75 | G11: =[1]Лист1!G104 -> 3.48 | H11: =[1]Лист1!H104 -> 8.32 | I11: =[1]Лист1!I104 -> 17.2 | J11: =[1]Лист1!J104 -> 157.6 | K11: =[1]Лист1!K104 -> 8 | L11: 11.72
D13: итого | F13: =SUM(F6:F12) -> 635 | G13: =SUM(G6:G12) -> 48.52 | H13: =SUM(H6:H12) -> 20.74 | I13: =SUM(I6:I12) -> 100.15 | J13: =SUM(J6:J12) -> 629.6 | L13: =SUM(L6:L12) -> 82
A14: =A6 -> 1 | B14: =B6 -> 1 | C14: Обед | D14: закуска
D15: 1 блюдо
D16: 2 блюдо
D17: гарнир
D18: напиток
D19: хлеб бел.
D20: хлеб черн.
D23: итого | F23: =SUM(F14:F22) -> 0 | G23: =SUM(G14:G22) -> 0 | H23: =SUM(H14:H22) -> 0 | I23: =SUM(I14:I22) -> 0 | J23: =SUM(J14:J22) -> 0 | L23: =SUM(L14:L22) -> 0
A24: =A6 -> 1 | B24: =B6 -> 1 | C24: Итого за день: | F24: =F13+F23 -> 635 | G24: =G13+G23 -> 48.52 | H24: =H13+H23 -> 20.74 | I24: =I13+I23 -> 100.15 | J24: =J13+J23 -> 629.6 | L24: =L13+L23 -> 82
A25: 1 | B25: 2 | C25: Завтрак | D25: гор.блюдо | E25: =[1]Лист1!E120 -> Гуляш из филе кур | F25: =[1]Лист1!F120 -> 100 | G25: =[1]Лист1!G120 -> 10.6 | H25: =[1]Лист1!H120 -> 15.28 | I25: =[1]Лист1!I120 -> 36.96 | J25: =[1]Лист1!J120 -> 255.68 | K25: =[1]Лист1!K120 -> 260 | L25: 36.96
E26: =[1]Лист1!E121 -> Макароны отварные | F26: =[1]Лист1!F121 -> 150 | G26: =[1]Лист1!G121 -> 7.54 | H26: =[1]Лист1!H121 -> 5.96 | I26: =[1]Лист1!I121 -> 48.04 | J26: =[1]Лист1!J121 -> 276.11 | K26: =[1]Лист1!K121 -> 309 | L26: 10.5
D27: гор.напиток | E27: =[1]Лист1!E122 -> Кофейный напиток | F27: =[1]Лист1!F122 -> 200 | G27: =[1]Лист1!G122 -> 1.33 | H27: =[1]Лист1!H122 -> 1.5 | I27: =[1]Лист1!I122 -> 12.77 | J27: =[1]Лист1!J122 -> 149.1 | K27: =[1]Лист1!K122 -> 55 | L27: 10.37
D28: хлеб | E28: =[1]Лист1!E123 -> Хлеб пшеничный | F28: =[1]Лист1!F123 -> 60 | G28: =[1]Лист1!G123 -> 3.8 | H28: =[1]Лист1!H123 -> 0.3 | I28: =[1]Лист1!I123 -> 20.7 | J28: =[1]Лист1!J123 -> 117 | K28: =[1]Лист1!K123 -> 1 | L28: 4
D29: фрукты | E29: =[1]Лист1!E124 -> Яблоко | F29: =[1]Лист1!F124 -> 100 | G29: =[1]Лист1!G124 -> 3 | H29: =[1]Лист1!H124 -> 0 | I29: =[1]Лист1!I124 -> 8.6 | J29: =[1]Лист1!J124 -> 40 | K29: =[1]Лист1!K124 -> 0 | L29: 10.4
D30: закуска | E30: =[1]Лист1!E125 -> Зеленый горошек | F30: =[1]Лист1!F125 -> 60 | G30: =[1]Лист1!G125 -> 1.92 | H30: =[1]Лист1!H125 -> 0.12 | I30: =[1]Лист1!I125 -> 3.96 | J30: =[1]Лист1!J125 -> 24 | K30: =[1]Лист1!K125 -> 10 | L30: =[1]Лист1!L125 -> 9.77
D32: итого | F32: =SUM(F25:F31) -> 670 | G32: =SUM(G25:G31) -> 28.19 | H32: =SUM(H25:H31) -> 23.16 | I32: =SUM(I25:I31) -> 131.03 | J32: =SUM(J25:J31) -> 861.89 | L32: =SUM(L25:L31) -> 82
A33: =A25 -> 1 | B33: =B25 -> 2 | C33: Обед | D33: закуска
D34: 1 блюдо
D35: 2 блюдо
D36: гарнир
D37: напиток
D38: хлеб бел.
D39: хлеб черн.
D42: итого | F42: =SUM(F33:F41) -> 0 | G42: =SUM(G33:G41) -> 0 | H42: =SUM(H33:H41) -> 0 | I42: =SUM(I33:I41) -> 0 | J42: =SUM(J33:J41) -> 0 | L42: =SUM(L33:L41) -> 0
A43: =A25 -> 1 | B43: =B25 -> 2 | C43: Итого за день: | F43: =F32+F42 -> 670 | G43: =G32+G42 -> 28.19 | H43: =H32+H42 -> 23.16 | I43: =I32+I42 -> 131.03 | J43: =J32+J42 -> 861.89 | L43: =L32+L42 -> 82
A44: 1 | B44: 3 | C44: Завтрак | D44: гор.блюдо | E44: =[1]Лист1!$E$139 -> Каша рисовая вязкая молочная с маслом,сахаром | F44: =[1]Лист1!F139 -> 265 | G44: =[1]Лист1!G139 -> 6.3 | H44: =[1]Лист1!H139 -> 7.09 | I44: =[1]Лист1!I139 -> 44.8 | J44: =[1]Лист1!J139 -> 269 | K44: =[1]Лист1!K139 -> 415 | L44: 38.6
E45: =[1]Лист1!$E$140 -> Булочка с персиком | F45: =[1]Лист1!F140 -> 80 | G45: =[1]Лист1!G140 -> 7.9 | H45: =[1]Лист1!H140 -> 9.4 | I45: =[1]Лист1!I140 -> 55.5 | J45: =[1]Лист1!J140 -> 193 | L45: 25
D46: гор.напиток | E46: =[1]Лист1!$E$141 -> Чай с сахаром | F46: =[1]Лист1!F141 -> 200 | G46: =[1]Лист1!G141 -> 0 | H46: =[1]Лист1!H141 -> 0 | I46: =[1]Лист1!I141 -> 14 | J46: =[1]Лист1!J141 -> 56 | K46: =[1]Лист1!K141 -> 713 | L46: 4
D47: хлеб | E47: =[1]Лист1!$E$142 -> Хлеб пшеничный | F47: =[1]Лист1!F142 -> 60 | G47: =[1]Лист1!G142 -> 1.9 | H47: =[1]Лист1!H142 -> 0.15 | I47: =[1]Лист1!I142 -> 10.35 | J47: =[1]Лист1!J142 -> 117 | K47: =[1]Лист1!K142 -> 1 | L47: 4
...
