Workbook

Sheet Лист1
A1: Школа | C1: МБОУ Роговская СОШ | F1: Утвердил: | G1: должность | H1: Директор школы
A2: Типовое примерное меню приготавливаемых блюд | G2: фамилия | H2: Титов С.Н.
A3: Возрастная категория | E3: 7-11 лет | G3: дата | H3: 4 | I3: 3 | J3: 2026
H4: день | I4: месяц | J4: год
A5: Неделя | B5: День недели | C5: Прием пищи | D5: Раздел меню | E5: Блюда | F5: Вес блюда, г | G5: Белки | H5: Жиры | I5: Углеводы | J5: Калорийность | K5: № рецептуры | L5: Цена
A6: 1 | B6: 1 | C6: Завтрак | D6: гор.блюдо | E6: =[1]Лист1!$E$101 -> Сырники (запеканка) из творога со сметаной | F6: =[1]Лист1!F101 -> 200 | G6: =[1]Лист1!G101 -> 40.3 | H6: =[1]Лист1!H101 -> 12 | I6: =[1]Лист1!I101 -> 36.5 | J6: =[1]Лист1!J101 -> 252 | K6: =[1]Лист1!K101 -> 237 | L6: 45.28
D8: гор.напиток | E8: =[1]Лист1!$E$103 -> Чай с сахаром с лимоном | F8: =[1]Лист1!F103 -> 200 | G8: =[1]Лист1!G103 -> 0 | H8: =[1]Лист1!H103 -> 0 | I8: =[1]Лист1!I103 -> 14 | J8: =[1]Лист1!J103 -> 56 | K8: =[1]Лист1!K103 -> 54 | L8: 4
D9: хлеб | E9: =[1]Лист1!$E$102 -> Хлеб пшеничный | F9: =[1]Лист1!F102 -> 60 | G9: =[1]Лист1!G102 -> 3.8 | H9: =[1]Лист1!H102 -> 0.3 | I9: =[1]Лист1!I102 -> 20.7 | J9: =[1]Лист1!J102 -> 117 | K9: =[1]Лист1!K102 -> 1 | L9: =[1]Лист1!L102 -> 4
D10: фрукты | E10: =[1]Лист1!$E$105 -> Апельсин | F10: =[1]Лист1!F105 -> 100 | G10: =[1]Лист1!G105 -> 0.94 | H10: =[1]Лист1!H105 -> 0.12 | I10: =[1]Лист1!I105 -> 11.75 | J10: =[1]Лист1!J105 -> 47 | K10: =[1]Лист1!K105 -> 0 | L10: 17
D11: закуска | E11: =[1]Лист1!$E$104 -> Бутерброд с маслом,сыром | F11: =[1]Лист1!F104 -> 75 | G11: =[1]Лист1!G104 -> 3.48 | H11: =[1]Лист1!H104 -> 8.32 | I11: =[1]Лист1!I104 -> 17.2 | J11: =[1]Лист1!J104 -> 157.6 | K11: =[1]Лист1!K104 -> 8 | L11: 11.72
D13: итого | F13: =SUM(F6:F12) -> 635 | G13: =SUM(G6:G12) -> 48.52 | H13: =SUM(H6:H12) -> 20.74 | I13: =SUM(I6:I12) -> 100.15 | J13: =SUM(J6:J12) -> 629.6 | L13: =SUM(L6:L12) -> 82
A14: =A6 -> 1 | B14: =B6 -> 1 | C14: Обед | D14: закуска
D15: 1 блюдо
D16: 2 блюдо
D17: гарнир
D18: напиток
D19: хлеб бел.
D20: хлеб черн.
D23: итого | F23: =SUM(F14:F22) -> 0 | G23: =SUM(G14:G22) -> 0 | H23: =SUM(H14:H22) -> 0 | I23: =SUM(I14:I22) -> 0 | J23: =SUM(J14:J22) -> 0 | L23: =SUM(L14:L22) -> 0
A24: =A6 -> 1 | B24: =B6 -> 1 | C24: Итого за день: | F24: =F13+F23 -> 635 | G24: =G13+G23 -> 48.52 | H24: =H13+H23 -> 20.74 | I24: =I13+I23 -> 100.15 | J24: =J13+J23 -> 629.6 | L24: =L13+L23 -> 82
A25: 1 | B25: 2 | C25: Завтрак | D25: гор.блюдо | E25: =[1]Лист1!E120 -> Гуляш из филе кур | F25: =[1]Лист1!F120 -> 100 | G25: =[1]Лист1!G120 -> 10.6 | H25: =[1]Лист1!H120 -> 15.28 | I25: =[1]Лист1!I120 -> 36.96 | J25: =[1]Лист1!J120 -> 255.68 | K25: =[1]Лист1!K120 -> 260 | L25: 36.96
E26: =[1]Лист1!E121 -> Макароны отварные | F26: =[1]Лист1!F121 -> 150 | G26: =[1]Лист1!G121 -> 7.54 | H26: =[1]Лист1!H121 -> 5.96 | I26: =[1]Лист1!I121 -> 48.04 | J26: =[1]Лист1!J121 -> 276.11 | K26: =[1]Лист1!K121 -> 309 | L26: 10.5
D27: гор.напиток | E27: =[1]Лист1!E122 -> Кофейный напиток | F27: =[1]Лист1!F122 -> 200 | G27: =[1]Лист1!G122 -> 1.33 | H27: =[1]Лист1!H122 -> 1.5 | I27: =[1]Лист1!I122 -> 12.77 | J27: =[1]Лист1!J122 -> 149.1 | K27: =[1]Лист1!K122 -> 55 | L27: 10.37
D28: хлеб | E28: =[1]Лист1!E123 -> Хлеб пшеничный | F28: =[1]Лист1!F123 -> 60 | G28: =[1]Лист1!G123 -> 3.8 | H28: =[1]Лист1!H123 -> 0.3 | I28: =[1]Лист1!I123 -> 20.7 | J28: =[1]Лист1!J123 -> 117 | K28: =[1]Лист1!K123 -> 1 | L28: 4
D29: фрукты | E29: =[1]Лист1!E124 -> Яблоко | F29: =[1]Лист1!F124 -> 100 | G29: =[1]Лист1!G124 -> 3 | H29: =[1]Лист1!H124 -> 0 | I29: =[1]Лист1!I124 -> 8.6 | J29: =[1]Лист1!J124 -> 40 | K29: =[1]Лист1!K124 -> 0 | L29: 10.4
D30: закуска | E30: =[1]Лист1!E125 -> Зеленый горошек | F30: =[1]Лист1!F125 -> 60 | G30: =[1]Лист1!G125 -> 1.92 | H30: =[1]Лист1!H125 -> 0.12 | I30: =[1]Лист1!I125 -> 3.96 | J30: =[1]Лист1!J125 -> 24 | K30: =[1]Лист1!K125 -> 10 | L30: =[1]Лист1!L125 -> 9.77
D32: итого | F32: =SUM(F25:F31) -> 670 | G32: =SUM(G25:G31) -> 28.19 | H32: =SUM(H25:H31) -> 23.16 | I32: =SUM(I25:I31) -> 131.03 | J32: =SUM(J25:J31) -> 861.89 | L32: =SUM(L25:L31) -> 82
A33: =A25 -> 1 | B33: =B25 -> 2 | C33: Обед | D33: закуска
D34: 1 блюдо
D35: 2 блюдо
D36: гарнир
D37: напиток
D38: хлеб бел.
D39: хлеб черн.
D42: итого | F42: =SUM(F33:F41) -> 0 | G42: =SUM(G33:G41) -> 0 | H42: =SUM(H33:H41) -> 0 | I42: =SUM(I33:I41) -> 0 | J42: =SUM(J33:J41) -> 0 | L42: =SUM(L33:L41) -> 0
A43: =A25 -> 1 | B43: =B25 -> 2 | C43: Итого за день: | F43: =F32+F42 -> 670 | G43: =G32+G42 -> 28.19 | H43: =H32+H42 -> 23.16 | I43: =I32+I42 -> 131.03 | J43: =J32+J42 -> 861.89 | L43: =L32+L42 -> 82
A44: 1 | B44: 3 | C44: Завтрак | D44: гор.блюдо | E44: =[1]Лист1!$E$139 -> Каша рисовая вязкая молочная с маслом,сахаром | F44: =[1]Лист1!F139 -> 265 | G44: =[1]Лист1!G139 -> 6.3 | H44: =[1]Лист1!H139 -> 7.09 | I44: =[1]Лист1!I139 -> 44.8 | J44: =[1]Лист1!J139 -> 269 | K44: =[1]Лист1!K139 -> 415 | L44: 38.6
E45: =[1]Лист1!$E$140 -> Булочка с персиком | F45: =[1]Лист1!F140 -> 80 | G45: =[1]Лист1!G140 -> 7.9 | H45: =[1]Лист1!H140 -> 9.4 | I45: =[1]Лист1!I140 -> 55.5 | J45: =[1]Лист1!J140 -> 193 | L45: 25
D46: гор.напиток | E46: =[1]Лист1!$E$141 -> Чай с сахаром | F46: =[1]Лист1!F141 -> 200 | G46: =[1]Лист1!G141 -> 0 | H46: =[1]Лист1!H141 -> 0 | I46: =[1]Лист1!I141 -> 14 | J46: =[1]Лист1!J141 -> 56 | K46: =[1]Лист1!K141 -> 713 | L46: 4
D47: хлеб | E47: =[1]Лист1!$E$142 -> Хлеб пшеничный | F47: =[1]Лист1!F142 -> 60 | G47: =[1]Лист1!G142 -> 1.9 | H47: =[1]Лист1!H142 -> 0.15 | I47: =[1]Лист1!I142 -> 10.35 | J47: =[1]Лист1!J142 -> 117 | K47: =[1]Лист1!K142 -> 1 | L47: 4
D48: фрукты | E48: =[1]Лист1!$E$143 -> Яблоко | F48: =[1]Лист1!F143 -> 100 | G48: =[1]Лист1!G143 -> 3 | H48: =[1]Лист1!H143 -> 3 | I48: =[1]Лист1!I143 -> 8.6 | J48: =[1]Лист1!J143 -> 40 | K48: =[1]Лист1!K143 -> 0 | L48: 10.4
D51: итого | F51: =SUM(F44:F50) -> 705 | G51: =SUM(G44:G50) -> 19.1 | H51: =SUM(H44:H50) -> 19.64 | I51: =SUM(I44:I50) -> 133.25 | J51: =SUM(J44:J50) -> 675 | L51: =SUM(L44:L50) -> 82
A52: =A44 -> 1 | B52: =B44 -> 3 | C52: Обед | D52: закуска
D53: 1 блюдо
D54: 2 блюдо
D55: гарнир
D56: напиток
D57: хлеб бел.
D58: хлеб черн.
D61: итого | F61: =SUM(F52:F60) -> 0 | G61: =SUM(G52:G60) -> 0 | H61: =SUM(H52:H60) -> 0 | I61: =SUM(I52:I60) -> 0 | J61: =SUM(J52:J60) -> 0 | L61: =SUM(L52:L60) -> 0
A62: =A44 -> 1 | B62: =B44 -> 3 | C62: Итого за день: | F62: =F51+F61 -> 705 | G62: =G51+G61 -> 19.1 | H62: =H51+H61 -> 19.64 | I62: =I51+I61 -> 133.25 | J62: =J51+J61 -> 675 | L62: =L51+L61 -> 82
A63: 1 | B63: 4 | C63: Завтрак | D63: гор.блюдо | E63: Тефтели мясные | F63: =[1]Лист1!F158 -> 100 | G63: =[1]Лист1!G158 -> 10.9 | H63: =[1]Лист1!H158 -> 11.39 | I63: =[1]Лист1!I158 -> 10.64 | J63: =[1]Лист1!J158 -> 188.02 | K63: =[1]Лист1!K158 -> 279 | L63: 37.51
E64: Каша гречневая | F64: =[1]Лист1!F159 -> 150 | G64: =[1]Лист1!G159 -> 8.69 | H64: =[1]Лист1!H159 -> 5.1 | I64: =[1]Лист1!I159 -> 39.4 | J64: =[1]Лист1!J159 -> 212.52 | K64: =[1]Лист1!K159 -> 177 | L64: 10.4
D65: гор.напиток | E65: =[1]Лист1!$E$160 -> Кофейный напиток | F65: =[1]Лист1!$F$160 -> 200 | G65: =[1]Лист1!G160 -> 1.33 | H65: =[1]Лист1!H160 -> 1.5 | I65: =[1]Лист1!I160 -> 12.77 | J65: =[1]Лист1!J160 -> 149.1 | K65: =[1]Лист1!K160 -> 379 | L65: =[1]Лист1!L160 -> 4
D66: хлеб | E66: =[1]Лист1!$E$161 -> Хлеб пшеничный | F66: =[1]Лист1!F161 -> 60 | G66: =[1]Лист1!G161 -> 1.9 | H66: =[1]Лист1!H161 -> 0.15 | I66: =[1]Лист1!I161 -> 10.35 | J66: =[1]Лист1!J161 -> 117 | K66: =[1]Лист1!K161 -> 1 | L66: 4
D67: фрукты | E67: =[1]Лист1!$E$162 -> Апельсин | F67: =[1]Лист1!F162 -> 100 | G67: =[1]Лист1!G162 -> 0.94 | H67: =[1]Лист1!H162 -> 0.12 | I67: =[1]Лист1!I162 -> 11.75 | J67: =[1]Лист1!J162 -> 47 | K67: =[1]Лист1!K162 -> 0 | L67: 17
D68: закуска | E68: =[1]Лист1!$E$163 -> огурец/помидор | F68: =[1]Лист1!F163 -> 75 | G68: =[1]Лист1!G163 -> 0.6 | H68: =[1]Лист1!H163 -> 0 | I68: =[1]Лист1!I163 -> 1.3 | J68: =[1]Лист1!J163 -> 9.8 | K68: =[1]Лист1!K163 -> 62/63 | L68: 9.09
D70: итого | F70: =SUM(F63:F69) -> 685 | G70: =SUM(G63:G69) -> 24.36 | H70: =SUM(H63:H69) -> 18.26 | I70: =SUM(I63:I69) -> 86.21 | J70: =SUM(J63:J69) -> 723.44 | L70: =SUM(L63:L69) -> 82
A71: =A63 -> 1 | B71: =B63 -> 4 | C71: Обед | D71: закуска
D72: 1 блюдо
D73: 2 блюдо
D74: гарнир
D75: напиток
D76: хлеб бел.
D77: хлеб черн.
D80: итого | F80: =SUM(F71:F79) -> 0 | G80: =SUM(G71:G79) -> 0 | H80: =SUM(H71:H79) -> 0 | I80: =SUM(I71:I79) -> 0 | J80: =SUM(J71:J79) -> 0 | L80: =SUM(L71:L79) -> 0
A81: =A63 -> 1 | B81: =B63 -> 4 | C81: Итого за день: | F81: =F70+F80 -> 685 | G81: =G70+G80 -> 24.36 | H81: =H70+H80 -> 18.26 | I81: =I70+I80 -> 86.21 | J81: =J70+J80 -> 723.44 | L81: =L70+L80 -> 82
A82: 1 | B82: 5 | C82: Завтрак | D82: гор.блюдо | E82: =[1]Лист1!$E$177 -> Рыба тушеная с овощами в томатном соусе | F82: =[1]Лист1!F177 -> 150 | G82: =[1]Лист1!G177 -> 14.8 | H82: =[1]Лист1!H177 -> 5.4 | I82: =[1]Лист1!I177 -> 15.5 | J82: =[1]Лист1!J177 -> 165 | K82: =[1]Лист1!K177 -> 340 | L82: 40.87
E83: =[1]Лист1!$E$178 -> Пюре картофельное | F83: =[1]Лист1!F178 -> 150 | G83: =[1]Лист1!G178 -> 3.5 | H83: =[1]Лист1!H178 -> 4.5 | I83: =[1]Лист1!I178 -> 23.7 | J83: =[1]Лист1!J178 -> 253.06 | K83: =[1]Лист1!K178 -> 525 | L83: 11.8
D84: гор.напиток | E84: =[1]Лист1!$E$179 -> Чай с сахаром | F84: =[1]Лист1!F179 -> 200 | G84: =[1]Лист1!G179 -> 0 | H84: =[1]Лист1!H179 -> 0 | I84: =[1]Лист1!I179 -> 14 | J84: =[1]Лист1!J179 -> 56 | K84: =[1]Лист1!K179 -> 713 | L84: 4
D85: хлеб | E85: =[1]Лист1!$E$180 -> Хлеб пшеничный | F85: =[1]Лист1!F180 -> 60 | G85: =[1]Лист1!G180 -> 1.9 | H85: =[1]Лист1!H180 -> 0.15 | I85: =[1]Лист1!I180 -> 10.35 | J85: =[1]Лист1!J180 -> 117 | K85: =[1]Лист1!K180 -> 1 | L85: 4
D86: фрукты | E86: =[1]Лист1!$E$181 -> Яблоко | F86: =[1]Лист1!F181 -> 100 | G86: =[1]Лист1!G181 -> 3 | H86: =[1]Лист1!H181 -> 0 | I86: =[1]Лист1!I181 -> 8.6 | J86: =[1]Лист1!J181 -> 40 | K86: =[1]Лист1!K181 -> 0 | L86: 10.4
D87: закуска | E87: =[1]Лист1!$E$182 -> Сыр порционно | F87: =[1]Лист1!F182 -> 20 | G87: =[1]Лист1!G182 -> 0.6 | H87: =[1]Лист1!H182 -> 0 | I87: =[1]Лист1!I182 -> 1.3 | J87: =[1]Лист1!J182 -> 70 | K87: =[1]Лист1!K182 -> 8 | L87: =[1]Лист1!L182 -> 10.93
D89: итого | F89: =SUM(F82:F88) -> 680 | G89: =SUM(G82:G88) -> 23.8 | H89: =SUM(H82:H88) -> 10.05 | I89: =SUM(I82:I88) -> 73.45 | J89: =SUM(J82:J88) -> 701.06 | L89: =SUM(L82:L88) -> 82
A90: =A82 -> 1 | B90: =B82 -> 5 | C90: Обед | D90: закуска
D91: 1 блюдо
D92: 2 блюдо
D93: гарнир
D94: напиток
D95: хлеб бел.
D96: хлеб черн.
D99: итого | F99: =SUM(F90:F98) -> 0 | G99: =SUM(G90:G98) -> 0 | H99: =SUM(H90:H98) -> 0 | I99: =SUM(I90:I98) -> 0 | J99: =SUM(J90:J98) -> 0 | L99: =SUM(L90:L98) -> 0
A100: =A82 -> 1 | B100: =B82 -> 5 | C100: Итого за день: | F100: =F89+F99 -> 680 | G100: =G89+G99 -> 23.8 | H100: =H89+H99 -> 10.05 | I100: =I89+I99 -> 73.45 | J100: =J89+J99 -> 701.06 | L100: =L89+L99 -> 82
A101: 2 | B101: 1 | C101: Завтрак | D101: гор.блюдо | E101: =[1]Лист1!$E$6 -> Куры тушеные в соусе | F101: =[1]Лист1!F6 -> 100 | G101: =[1]Лист1!G6 -> 18.4 | H101: =[1]Лист1!H6 -> 17.8 | I101: =[1]Лист1!I6 -> 17.8 | J101: =[1]Лист1!J6 -> 279 | K101: =[1]Лист1!K6 -> 302 | L101: 38.61
E102: =[1]Лист1!$E$7 -> Рис отварной | F102: =[1]Лист1!F7 -> 150 | G102: =[1]Лист1!G7 -> 3.9 | H102: =[1]Лист1!H7 -> 7.2 | I102: =[1]Лист1!I7 -> 34 | J102: =[1]Лист1!J7 -> 145.1 | K102: =[1]Лист1!K7 -> 304 | L102: 10.05
D103: гор.напиток | E103: =[1]Лист1!$E$8 -> кофейный напиток с молоком | F103: =[1]Лист1!F8 -> 200 | G103: =[1]Лист1!G8 -> 1.33 | H103: =[1]Лист1!H8 -> 1.5 | I103: =[1]Лист1!I8 -> 12.77 | J103: =[1]Лист1!J8 -> 149.1 | K103: =[1]Лист1!K8 -> 382 | L103: 10.25
D104: хлеб | E104: =[1]Лист1!$E$9 -> Хлеб пшеничный | F104: =[1]Лист1!F9 -> 60 | G104: =[1]Лист1!G9 -> 4.56 | H104: =[1]Лист1!H9 -> 0.36 | I104: =[1]Лист1!I9 -> 31.38 | J104: =[1]Лист1!J9 -> 139.8 | K104: =[1]Лист1!K9 -> 1 | L104: 4
D105: фрукты | E105: =[1]Лист1!$E$10 -> Яблоко | F105: =[1]Лист1!F10 -> 100 | G105: =[1]Лист1!G10 -> 3 | H105: =[1]Лист1!H10 -> 0 | I105: =[1]Лист1!I10 -> 8.6 | J105: =[1]Лист1!J10 -> 40 | K105: =[1]Лист1!K10 -> 0 | L105: 10.4
D106: закуска | E106: =[1]Лист1!$E$11 -> Зеленый горошек | F106: =[1]Лист1!F11 -> 60 | G106: =[1]Лист1!G11 -> 1.92 | H106: =[1]Лист1!H11 -> 0.12 | I106: =[1]Лист1!I11 -> 3.96 | J106: =[1]Лист1!J11 -> 24 | K106: =[1]Лист1!K11 -> 10 | L106: 8.69
D108: итого | F108: =SUM(F101:F107) -> 670 | G108: =SUM(G101:G107) -> 33.11 | H108: =SUM(H101:H107) -> 26.98 | I108: =SUM(I101:I107) -> 108.51 | J108: =SUM(J101:J107) -> 777 | L108: =SUM(L101:L107) -> 82
A109: =A101 -> 2 | B109: =B101 -> 1 | C109: Обед | D109: закуска
D110: 1 блюдо
D111: 2 блюдо
D112: гарнир
D113: напиток
D114: хлеб бел.
D115: хлеб черн.
D118: итого | F118: =SUM(F109:F117) -> 0 | G118: =SUM(G109:G117) -> 0 | H118: =SUM(H109:H117) -> 0 | I118: =SUM(I109:I117) -> 0 | J118: =SUM(J109:J117) -> 0 | L118: =SUM(L109:L117) -> 0
A119: =A101 -> 2 | B119: =B101 -> 1 | C119: Итого за день: | F119: =F108+F118 -> 670 | G119: =G108+G118 -> 33.11 | H119: =H108+H118 -> 26.98 | I119: =I108+I118 -> 108.51 | J119: =J108+J118 -> 777 | L119: =L108+L118 -> 82
A120: 2 | B120: 2 | C120: Завтрак | D120: гор.блюдо | E120: =[1]Лист1!$E$25 -> Запеканка (сырники) из творога со сметаной | F120: =[1]Лист1!F25 -> 230 | G120: =[1]Лист1!G25 -> 40.3 | H120: =[1]Лист1!H25 -> 37.6 | I120: =[1]Лист1!I25 -> 36.5 | J120: =[1]Лист1!J25 -> 252 | K120: =[1]Лист1!K25 -> 237 | L120: 45.28
...
